BEGIN:VCALENDAR
VERSION:2.0
PRODID:-//https://members.burbankrealtors.org//NONSGML kigkonsult.se iCalcreator 2.41.71//
CALSCALE:GREGORIAN
METHOD:PUBLISH
UID:33633730-3032-4865-a430-393761393937
X-WR-CALNAME:JCal Pro Calendar
X-WR-CALDESC:Your online events calendar
X-WR-TIMEZONE:Asia/Singapore
BEGIN:VTIMEZONE
TZID:America/Los_Angeles
TZUNTIL:20271107T090000Z
BEGIN:STANDARD
TZNAME:PST
DTSTART:20251102T020000
TZOFFSETFROM:-0700
TZOFFSETTO:-0800
RDATE:20261101T020000
END:STANDARD
BEGIN:DAYLIGHT
TZNAME:PDT
DTSTART:20260308T020000
TZOFFSETFROM:-0800
TZOFFSETTO:-0700
RDATE:20270314T020000
END:DAYLIGHT
END:VTIMEZONE
BEGIN:VTIMEZONE
TZID:Asia/Singapore
BEGIN:STANDARD
TZNAME:+08
DTSTART:20240721T080712
TZOFFSETFROM:+0000
TZOFFSETTO:+0800
END:STANDARD
END:VTIMEZONE
BEGIN:VEVENT
UID:20160317T160000UTC-ea1f37@http://burbiws.rapams.com/
DTSTAMP:20260422T080712Z
CATEGORIES:Holidays
DTSTART;TZID=America/Los_Angeles:20160317T090000
DTEND;TZID=America/Los_Angeles:20160317T100000
SUMMARY:St. Patrick's Day
URL:https://members.burbankrealtors.org/monthly-calendar-calendar-menu/196-
 holidays-calendar-category/15814-st-patrick-s-day.html
END:VEVENT
END:VCALENDAR
