BEGIN:VCALENDAR
VERSION:2.0
PRODID:-//https://members.burbankrealtors.org//NONSGML kigkonsult.se iCalcreator 2.41.71//
CALSCALE:GREGORIAN
METHOD:PUBLISH
UID:36326332-6239-4633-b232-633539363235
X-WR-CALNAME:JCal Pro Calendar
X-WR-CALDESC:Your online events calendar
X-WR-TIMEZONE:Asia/Singapore
BEGIN:VTIMEZONE
TZID:America/Los_Angeles
TZUNTIL:20271107T090000Z
BEGIN:STANDARD
TZNAME:PST
DTSTART:20251102T020000
TZOFFSETFROM:-0700
TZOFFSETTO:-0800
RDATE:20261101T020000
END:STANDARD
BEGIN:DAYLIGHT
TZNAME:PDT
DTSTART:20260308T020000
TZOFFSETFROM:-0800
TZOFFSETTO:-0700
RDATE:20270314T020000
END:DAYLIGHT
END:VTIMEZONE
BEGIN:VTIMEZONE
TZID:Asia/Singapore
BEGIN:STANDARD
TZNAME:+08
DTSTART:20240724T014454
TZOFFSETFROM:+0000
TZOFFSETTO:+0800
END:STANDARD
END:VTIMEZONE
BEGIN:VEVENT
UID:20160215T160000UTC-333c30@http://burbiws.rapams.com/
DTSTAMP:20260425T014454Z
CATEGORIES:Holidays
DTSTART;TZID=America/Los_Angeles:20160215T080000
DTEND;TZID=America/Los_Angeles:20160215T090000
SUMMARY:Office Closed - President's Day
URL:https://members.burbankrealtors.org/todays-calendar-calendar-view/196-h
 olidays-calendar-category/15806-office-closed-president.html
END:VEVENT
END:VCALENDAR
